BEGIN:VCALENDAR
VERSION:2.0
PRODID:-//Wickenburg Community Hospital &amp; Clinics - ECPv6.15.20//NONSGML v1.0//EN
CALSCALE:GREGORIAN
METHOD:PUBLISH
X-ORIGINAL-URL:https://wickhosp.com
X-WR-CALDESC:Events for Wickenburg Community Hospital &amp; Clinics
REFRESH-INTERVAL;VALUE=DURATION:PT1H
X-Robots-Tag:noindex
X-PUBLISHED-TTL:PT1H
BEGIN:VTIMEZONE
TZID:UTC
BEGIN:STANDARD
TZOFFSETFROM:+0000
TZOFFSETTO:+0000
TZNAME:UTC
DTSTART:20250101T000000
END:STANDARD
END:VTIMEZONE
BEGIN:VEVENT
DTSTART;TZID=UTC:20260811T080000
DTEND;TZID=UTC:20260812T140000
DTSTAMP:20260420T143829
CREATED:20251222T165632Z
LAST-MODIFIED:20251222T165632Z
UID:2397-1786435200-1786543200@wickhosp.com
SUMMARY:Blood Drive August 11 & 12
DESCRIPTION:Blood Drive August 11 & 12 \nWickenburg Community Hospital Activity Room \n8:00 AM – 2:00 PM \nAppts and Walk-In’s Welcome
URL:https://wickhosp.com/event/blood-drive-august-11-12/
LOCATION:Activity Room @WCH\, 520 Rose Lane\, Wickenburg\, AZ\, 85390\, United States
CATEGORIES:Blood Drive
ATTACH;FMTTYPE=image/png:https://wickhosp.com/wp-content/uploads/2025/10/images-1.png
END:VEVENT
END:VCALENDAR