BEGIN:VCALENDAR
VERSION:2.0
PRODID:-//Wickenburg Community Hospital &amp; Clinics - ECPv6.15.20//NONSGML v1.0//EN
CALSCALE:GREGORIAN
METHOD:PUBLISH
X-WR-CALNAME:Wickenburg Community Hospital &amp; Clinics
X-ORIGINAL-URL:https://wickhosp.com
X-WR-CALDESC:Events for Wickenburg Community Hospital &amp; Clinics
REFRESH-INTERVAL;VALUE=DURATION:PT1H
X-Robots-Tag:noindex
X-PUBLISHED-TTL:PT1H
BEGIN:VTIMEZONE
TZID:UTC
BEGIN:STANDARD
TZOFFSETFROM:+0000
TZOFFSETTO:+0000
TZNAME:UTC
DTSTART:20240101T000000
END:STANDARD
END:VTIMEZONE
BEGIN:VEVENT
DTSTART;TZID=UTC:20250612T150000
DTEND;TZID=UTC:20250612T163000
DTSTAMP:20260421T051233
CREATED:20250425T201600Z
LAST-MODIFIED:20250425T201600Z
UID:1818-1749740400-1749745800@wickhosp.com
SUMMARY:Remembrances: a Grief/Loss Support Group - June
DESCRIPTION:Especially for the Wickenburg Community – 2nd Thursday of the Month \nThis group offers support in a caring environment for anyone who has lost a loved one or is caring for a loved one who is declining mentally or physically. This group is also for pet owners who are grieving the loss of their devoted companion. \nWe provide compassionate support and a safe place to share with others. Both are essential to managing the grief journey and learning to live with loss.
URL:https://wickhosp.com/event/remembrances-a-grief-loss-support-group-june/
LOCATION:Board Room @WCH\, 520 Rose Lane\, Wickenburg\, AZ\, 85390\, United States
CATEGORIES:Grief/Loss Group
ATTACH;FMTTYPE=image/png:https://wickhosp.com/wp-content/uploads/2025/04/logo-hovBLUE.png
END:VEVENT
BEGIN:VEVENT
DTSTART;TZID=UTC:20250610T080000
DTEND;TZID=UTC:20250611T140000
DTSTAMP:20260421T051233
CREATED:20250425T192312Z
LAST-MODIFIED:20250425T201128Z
UID:1790-1749542400-1749650400@wickhosp.com
SUMMARY:Blood Drive - June
DESCRIPTION:Wickenburg Elks Community Blood Drive\nHosted by Wickenburg Community Hospital\nJune 10th & 11th\, 2025 – 8:00am to 2:00pm Daily
URL:https://wickhosp.com/event/blood-drive/
LOCATION:Activity Room @WCH\, 520 Rose Lane\, Wickenburg\, AZ\, 85390\, United States
CATEGORIES:Blood Drive
ATTACH;FMTTYPE=image/png:https://wickhosp.com/wp-content/uploads/2025/04/logo-vitalant.png
ORGANIZER;CN="Wickenburg Community Hospital & Clinics":MAILTO:wchca@wickhosp.com
END:VEVENT
BEGIN:VEVENT
DTSTART;TZID=UTC:20250508T150000
DTEND;TZID=UTC:20250508T163000
DTSTAMP:20260421T051233
CREATED:20250425T201306Z
LAST-MODIFIED:20250425T201306Z
UID:1810-1746716400-1746721800@wickhosp.com
SUMMARY:Remembrances: a Grief/Loss Support Group
DESCRIPTION:Especially for the Wickenburg Community – 2nd Thursday of the Month \nThis group offers support in a caring environment for anyone who has lost a loved one or is caring for a loved one who is declining mentally or physically. This group is also for pet owners who are grieving the loss of their devoted companion. \nWe provide compassionate support and a safe place to share with others. Both are essential to managing the grief journey and learning to live with loss.
URL:https://wickhosp.com/event/remembrances-a-grief-loss-support-group/
LOCATION:Board Room @WCH\, 520 Rose Lane\, Wickenburg\, AZ\, 85390\, United States
CATEGORIES:Grief/Loss Group
ATTACH;FMTTYPE=image/png:https://wickhosp.com/wp-content/uploads/2025/04/logo-hovBLUE.png
END:VEVENT
END:VCALENDAR